BEGIN:VCALENDAR
VERSION:2.0
PRODID:-//ChamberMaster//Event Calendar 2.0//EN
METHOD:PUBLISH
X-PUBLISHED-TTL:P3D
REFRESH-INTERVAL:P3D
CALSCALE:GREGORIAN
BEGIN:VEVENT
DTSTART:20230713T233000Z
DTEND:20230714T013000Z
X-MICROSOFT-CDO-ALLDAYEVENT:FALSE
SUMMARY:Business After Hours July 13\, 2023
DESCRIPTION:The Business After Hours (BAH) program is one of the chamber's most highly anticipated and well-attended monthly events.  This event is held at 5:30pm - 7:30pm. on 2nd Thursday of the month. The Business After Hours program serves two purposes. The event allows the host to showcase their business\, services\, and facilities to the business community and it offers chamber investors the chance to meet one another and network in a casual and relaxed atmosphere.\n\n\n\nThis month join us for Driftwood and Clay Art Market and Studio.   Start making connections during our Networking-Mixer hour 5:30 PM to 6:30 PM. Finish up the night with our BAH Program and Raffles.  \n\n\n\nMiscellaneous Information: \n\n	Bring your business cards for one of the raffles\n	Register so we can make sure to have your nametag and refreshment tickets ready.\n	We provide a space for distribution of cards and flyers.\n	Donations accepted for raffles.
X-ALT-DESC;FMTTYPE=text/html:The Business After Hours (BAH) program is one of the chamber&#39\;s most highly anticipated and well-attended monthly events.&nbsp\; This event is held at 5:30pm - 7:30pm. on 2nd Thursday of the month. The Business After Hours program serves two purposes. The event allows the host to showcase their business\, services\, and facilities to the business community and it offers chamber investors the chance to meet one another and network in a casual and relaxed atmosphere.<br />\n<br />\n<span style="font-family: Roboto\, sans-serif\; font-size: 21px\; font-weight: 700\; background-color: rgb(240\, 240\, 240)\;">This month join us for&nbsp\;</span><span style="color: rgb(51\, 51\, 51)\; font-family: Roboto\, sans-serif\; font-size: 21px\; font-weight: 700\; background-color: rgb(240\, 240\, 240)\;">Driftwood and Clay Art Market and Studio.</span>&nbsp\;<font face="Roboto\, sans-serif"><span style="font-size: 14px\; background-color: rgb(240\, 240\, 240)\;"><b>&nbsp\;</b></span></font>&nbsp\;Start making connections during our Networking-Mixer hour 5:30 PM to 6:30 PM. Finish up the night with our BAH Program and Raffles.&nbsp\;&nbsp\;<br />\n<br />\n<strong>Miscellaneous Information:&nbsp\;</strong>\n<ul>\n	<li>Bring your business cards for one of the raffles</li>\n	<li>Register so we can make sure to have your nametag and refreshment tickets ready.</li>\n	<li>We provide a space for distribution of cards and flyers.</li>\n	<li>Donations accepted for raffles.&nbsp\;</li>\n</ul>\n
LOCATION:428 S. 9th Street Ca on City CO 81212
UID:e.2822.17356
SEQUENCE:3
DTSTAMP:20260422T111340Z
URL:https://business.royalgorgechamberalliance.org/events/details/business-after-hours-july-13-2023-17356
END:VEVENT

END:VCALENDAR
