BEGIN:VCALENDAR
VERSION:2.0
PRODID:-//ChamberMaster//Event Calendar 2.0//EN
METHOD:PUBLISH
X-PUBLISHED-TTL:P3D
REFRESH-INTERVAL:P3D
CALSCALE:GREGORIAN
BEGIN:VEVENT
DTSTART:20260514T230000Z
DTEND:20260515T010000Z
X-MICROSOFT-CDO-ALLDAYEVENT:FALSE
SUMMARY:Business After Hours May 14\, 2026
DESCRIPTION:The Business After Hours (BAH) program is one of the chamber's most highly anticipated and well-attended monthly events. This event is held at 5:00pm - 7:00pm on the 2nd Thursday of the month. The Business After Hours program serves two purposes: The event allows the host to showcase their business\, services\, and facilities to the business community and it offers chamber investors the chance to meet one another and network in a casual and relaxed atmosphere. \n\n\n\n \nJoin us this month as we head over to Florence  for May's Business After Hours with Mountain View Homes\, Berkshire Hathaway HomeServices\, and Toby with Focal Point Business Coaching at the historical Rialto Theater!\n\n\nStart making connections during our Networking-Mixer hour 5:00 PM to 6:00 PM. Finish up the night with our BAH Program and Drawings.  \n\n\n\nMiscellaneous Information: \n\n\n	Scan the Program QR Code at the event to be entered to win.\n	Register so we can make sure to have your nametag and refreshment tickets ready.\n	We provide a space for distribution of cards and flyers.\n	Donations accepted for drawing. \n\n*Must be a Member or a Guest of a Member to Attend. Please call with any questions 719-275-2331. Thank You & Happy Connecting!
X-ALT-DESC;FMTTYPE=text/html:<span style="font-size:16px\;">The Business After Hours (BAH) program is one of the chamber&#39\;s most highly anticipated and well-attended monthly events. This event is held at <span style="color:#B22222\;">5:00pm - 7:00pm</span>&nbsp\;on the 2nd Thursday of the month. The Business After Hours program serves two purposes: The event allows the host to showcase their business\, services\, and facilities to the business community and it offers chamber investors the chance to meet one another and network in a casual and relaxed atmosphere.&nbsp\;</span><br />\n<br />\n&nbsp\;\n<h2 class="qrShPb pXs6bb PZPZlf q8U8x aTI8gc hNKfZe" data-attrid="title" data-dtype="d3ifr" data-local-attribute="d3bn" data-ved="2ahUKEwjsnJ6hhfyOAxXROEQIHZP6EpYQ3B0oAHoECE0QAQ" style="font-family: &quot\;Google Sans&quot\;\, Roboto\, Arial\, sans-serif\; font-size: 24px\; line-height: 1.34\; margin: 0px\; color: rgb(31\, 31\, 31)\;"><span style="color:#800000\;"><span style="font-family:arial\;">Join us this month as we head over to Florence&nbsp\;<span style="font-size: 15px\;">&nbsp\;<span style="font-size:24px\;">for May&#39\;s Business After Hours with Mountain View Homes\, Berkshire Hathaway HomeServices\, and Toby with Focal Point Business Coaching at the historical Rialto Theater!</span></span></span></span></h2>\n<br />\n<span style="font-size:16px\;">Start making connections during our Networking-Mixer hour 5:00 PM to 6:00 PM. Finish up the night with our BAH Program and Drawings.&nbsp\;&nbsp\;<br />\n<br />\n<strong>Miscellaneous Information:&nbsp\;</strong></span>\n\n<ul>\n	<li><span style="font-size:16px\;">Scan the Program QR Code at the event to be entered to win.</span></li>\n	<li><span style="font-size:16px\;">Register so we can make sure to have your nametag and refreshment tickets ready.</span></li>\n	<li><span style="font-size:16px\;">We provide a space for distribution of cards and flyers.</span></li>\n	<li><span style="font-size:16px\;">Donations accepted for drawing.&nbsp\;</span></li>\n</ul>\n<strong><span style="color:#A52A2A\;"><span style="font-size:14px\;">*Must be a Member or a Guest of a Member to Attend.&nbsp\;Please call with any questions 719-275-2331. Thank You &amp\; Happy Connecting!</span></span></strong>
LOCATION:209 W. Main Street Florence CO 81226
UID:e.2822.18420
SEQUENCE:3
DTSTAMP:20260423T011706Z
URL:https://business.royalgorgechamberalliance.org/events/details/business-after-hours-may-14-2026-18420
END:VEVENT

END:VCALENDAR
