BEGIN:VCALENDAR
VERSION:2.0
PRODID:-//ChamberMaster//Event Calendar 2.0//EN
METHOD:PUBLISH
X-PUBLISHED-TTL:P3D
REFRESH-INTERVAL:P3D
CALSCALE:GREGORIAN
BEGIN:VEVENT
DTSTART:20240411T220000Z
DTEND:20240412T020000Z
X-MICROSOFT-CDO-ALLDAYEVENT:FALSE
SUMMARY:Business After Hours - Small Business Chamber Expo April 11\, 2024
DESCRIPTION:The Business After Hours (BAH) program is one of the chamber's most highly anticipated and well-attended monthly events. This BAH is centered around our small businesses with no brick and mortar location\, or too small of space to host a traditional Business After Hours program.  This special event is held from 4:00pm - 8:00pm. on the 2nd Thursday of April. The Business After Hours program serves two purposes. The event allows the host to showcase their business\, services\, and facilities to the business community and it offers chamber investors the chance to meet one another and network in a casual and relaxed atmosphere. We've provided a facility with space for up to 25 members to shine. \n\n\n\nDuring the event check out our break-out educational sessions in the conference room. We will have 5- 20 minute sessions on pertinent information about the what's going on in the area or small business issues. \n\n\n\nEducational Break-Out Session Schedule:\n\n\n\n4:30 City - Leo Evans on "Blueprints for Progress: Unveiling Current and Planned Construction Projects in Canon City"\n\n5:00 City - Ryan Stevens & Ryan LeClair on "Unlocking Opportunities: Easy Business Grants from Your City"\n\n5:30 UAADC - Dave Paul on "Business Loan & Enterprise Tax Credit"\n\n6:00 FEDC   Rob Brown on Fueling Economic Growth: Leveraging the Contributions of EDCs and Chambers of Commerce\n\n6:30 UAACOG - Max Hanson on "Housing Resources"\n\n\n\n\n\nMiscellaneous Information: \n\n	Scan the program and enter to win a E-blast or entry into a BAH event.\n	Register so we can make sure to have your nametag and refreshment tickets ready.\n	We provide a space for distribution of cards and flyers.\n	Donations accepted for raffles.
X-ALT-DESC;FMTTYPE=text/html:<strong><span style="font-family:arial\,sans-serif\;"><span style="font-size:10.5pt\;">The Business After Hours</span></span></strong><span style="background-image:initial\;background-position:initial\;background-size:initial\;background-repeat:initial\;background-attachment:initial\;background-origin:initial\;background-clip:initial\;"><span style="font-family:arial\,sans-serif\;"><span style="font-size:10pt\;">&nbsp\;(BAH) program is one of the chamber&#39\;s most highly anticipated and well-attended monthly events. This BAH is centered around our small businesses with no brick and mortar location\, or too small of space to host a traditional Business After Hours program.&nbsp\; This special event is held from 4:00pm - 8:00pm. on the 2nd Thursday of April. The Business After Hours program serves two purposes. The event allows the host to showcase their business\, services\, and facilities to the business community and it offers chamber investors the chance to meet one another and network in a casual and relaxed atmosphere. We&#39\;ve provided a facility with space for up to 25 members to shine.&nbsp\;</span></span></span><br />\n<br />\n<span style="font-family:arial\,sans-serif\;"><span style="font-size:10pt\;"><span style="background-image:initial\;background-position:initial\;background-size:initial\;background-repeat:initial\;background-attachment:initial\;background-origin:initial\;background-clip:initial\;">During the event check out our break-out educational sessions in the conference room. We will have 5- 20 minute sessions on pertinent information about the what&#39\;s going on in the area or small business issues.&nbsp\;</span></span></span><br />\n<br />\n<strong><span style="color:#050505\;"><span style="font-family:calibri\,sans-serif\;"><span style="font-size:12.0pt\;">Educational Break-Out Session Schedule:</span></span></span></strong><br />\n<br />\n<strong><span style="color:#050505\;"><span style="font-family:calibri\,sans-serif\;"><span style="font-size:12.0pt\;">4:30 City - Leo Evans on&nbsp\;</span></span></span></strong><strong><span style="color:mediumblue\;"><span style="font-family:calibri\,sans-serif\;"><span style="font-size:12.0pt\;">&quot\;Blueprints for Progress: Unveiling Current and Planned Construction Projects in Canon City&rdquo\;</span></span></span></strong><br />\n<strong><span style="color:#050505\;"><span style="font-family:calibri\,sans-serif\;"><span style="font-size:12.0pt\;">5:00 City - Ryan Stevens &amp\; Ryan LeClair on&nbsp\;</span></span></span></strong><strong><span style="color:mediumblue\;"><span style="font-family:calibri\,sans-serif\;"><span style="font-size:12.0pt\;">&quot\;Unlocking Opportunities: Easy Business Grants from Your City&rdquo\;</span></span></span></strong><br />\n<strong><span style="color:#050505\;"><span style="font-family:calibri\,sans-serif\;"><span style="font-size:12.0pt\;">5:30 UAADC - Dave Paul on&nbsp\;</span></span></span></strong><strong><span style="color:mediumblue\;"><span style="font-family:calibri\,sans-serif\;"><span style="font-size:12.0pt\;">&quot\;Business Loan &amp\; Enterprise Tax Credit&quot\;</span></span></span></strong><br />\n<strong><span style="color:#050505\;"><span style="font-family:calibri\,sans-serif\;"><span style="font-size:12.0pt\;">6:00 FEDC &ndash\; Rob Brown on </span></span></span></strong><strong><span style="background-image:initial\;background-position:initial\;background-size:initial\;background-repeat:initial\;background-attachment:initial\;background-origin:initial\;background-clip:initial\;"><span style="color:blue\;"><span style="font-family:calibri\,sans-serif\;"><span style="font-size:12pt\;">Fueling Economic Growth: Leveraging the Contributions of EDCs and Chambers of Commerce</span></span></span></span></strong><br />\n<strong><span style="color:#050505\;"><span style="font-family:calibri\,sans-serif\;"><span style="font-size:12.0pt\;">6:30 UAACOG - Max Hanson on</span></span></span><span style="color:mediumblue\;"><span style="font-family:calibri\,sans-serif\;"><span style="font-size:12.0pt\;">&nbsp\;&quot\;Housing Resources&quot\;</span></span></span></strong><br />\n<br />\n<br />\n<strong>Miscellaneous Information:&nbsp\;</strong>\n<ul>\n	<li>Scan the program and enter to win a E-blast or entry into a BAH event.</li>\n	<li>Register so we can make sure to have your nametag and refreshment tickets ready.</li>\n	<li>We provide a space for distribution of cards and flyers.</li>\n	<li>Donations accepted for raffles.&nbsp\;</li>\n</ul>\n
LOCATION:Pathfinder Park & Event Center 6655 State HWY 115 Florence CO 81226
UID:e.2822.17382
SEQUENCE:3
DTSTAMP:20260421T174050Z
URL:https://business.royalgorgechamberalliance.org/events/details/business-after-hours-small-business-chamber-expo-april-11-2024-17382
END:VEVENT

END:VCALENDAR
