BEGIN:VCALENDAR
VERSION:2.0
PRODID:-//ChamberMaster//Event Calendar 2.0//EN
METHOD:PUBLISH
X-PUBLISHED-TTL:P3D
REFRESH-INTERVAL:P3D
CALSCALE:GREGORIAN
BEGIN:VEVENT
DTSTART:20231119T000000Z
DTEND:20231119T030000Z
X-MICROSOFT-CDO-ALLDAYEVENT:FALSE
SUMMARY:Pasta Party Scholarship Fundraiser 2023
DESCRIPTION:It's Pasta for a Purpose!\n\nJoin us as we promote higher education opportunities for our youth in the Royal Gorge Region!\n\nFor 20 years\, our chamber of commerce has raised thousands of dollars towards scholarships awarded to students in Fremont County to continue their education. Once again\, our partners\, the PCC Foundation\, will match dollar-for-dollar the funds we raise to make this happen in a big way!\n\nBecome a sponsor at one of our three tier levels\, or buy a ticket and enjoy a delicious homemade Italian feast while we celebrate and award our community's youth.\n\n\n\nAll Sponsorships and tickets can be counted as an educational/charitable tax deduction through our 501c3 foundation.     \n\n\n\n5:00 pm     Cocktail Hour & Silent Auction   Cash Bar \n\nFeaturing exquisite Italian-themed cocktails and Sangrias\n\n6:00 pm     A Tour of Italy Buffet Dinner \n\nItalian Salad\, Breadsticks\, Italian Sausage Pasta Bake\, Desert\n\n(Vegetarian and gluten-free options available)\n\n7:00 pm   Scholarship Award Ceremony \n\nSilent Auction Winners Announced\n\n \n\nINDIVIDUAL TICKETS   $25\n\nCOMMEMORATIVE LOGO GLASS   $10 (Includes first drink free!)\n\n \n\nSponsor this event at one of the three levels below for special recognition and event \n\nCOMMUNITY TRAILBLAZER       $500\n\n  Opportunity to personally present a scholarship on stage\n\n  Recognition by sponsor level with logo in all print\, digital and social media\n\n  Logo in printed program and full screen rotating logo on large monitors at     event\n\n  8 guest tickets\n\n  8 Complimentary RGCA logoed glasses for each seat at the table\n\n\n\nCOMMUNITY INFLUENCER         $250\n\n  Recognition by sponsor level with small logo in all print\, digital and social media\n\n  Small Logo in printed/digital + rotating listing on jumbo-screen event center monitors\n\n  4 guest tickets with preferred seating location (purchase up to 4 additional tickets at $25 each)\n\n\n\nCOMMUNITY ADVOCATE    $175 \n\n  Recognition by sponsor level in all print\, digital and social media\n\n  Name listing in printed/digital + rotating listing on jumbo-screen event center monitors\n\n  2 guest tickets (purchase up to 6 additional tickets at $25 each)\n\n\n\n*If you are paying with a credit card the processing fees will be added to the payment. If you are paying with a check or cash you invoice will reflect the price list.
X-ALT-DESC;FMTTYPE=text/html:<strong style="font-size: 18px\;">It&#39\;s Pasta for a Purpose!</strong><br />\n<span style="font-size:14px\;">Join us as we promote higher education opportunities for our youth in the Royal Gorge Region!<br />\nFor 20 years\, our chamber of commerce has raised thousands of dollars towards scholarships awarded to students in Fremont County to continue their education. Once again\, our partners\, the PCC Foundation\, will match dollar-for-dollar the funds we raise to make this happen in a big way!<br />\nBecome a sponsor at one of our three tier levels\, or buy a ticket and enjoy a delicious homemade Italian feast while we celebrate and award our community&#39\;s youth.</span><br />\n<br />\n<span style="color:#FF0000\;">All Sponsorships and tickets can be counted as an educational/charitable tax deduction through our 501c3 foundation.</span>&nbsp\; &nbsp\; &nbsp\;<br />\n<br />\n<strong><span style="background:#F3F3F3\;"><span style="color:#3F3F3F\;"><span style="font-family:arial\,sans-serif\;"><span style="font-size:14.0pt\;">5:00 pm&nbsp\; </span></span></span></span></strong><strong><span style="background:#F3F3F3\;"><span style="color:#3F3F3F\;"><span style="font-family:ebrima\;"><span style="font-size:14.0pt\;">&loz\;</span></span></span></span></strong><strong><span style="background:#F3F3F3\;"><span style="color:#3F3F3F\;"><span style="font-family:arial\,sans-serif\;"><span style="font-size:14.0pt\;">&nbsp\; Cocktail Hour &amp\; Silent Auction &loz\; Cash Bar </span></span></span></span></strong><br />\n<strong><span style="background:#F3F3F3\;"><span style="color:#3F3F3F\;"><span style="font-family:arial\,sans-serif\;"><span style="font-size:12.0pt\;">Featuring exquisite Italian-themed cocktails and Sangrias</span></span></span></span></strong><br />\n<strong><span style="background:#F3F3F3\;"><span style="color:#3F3F3F\;"><span style="font-family:arial\,sans-serif\;"><span style="font-size:14.0pt\;">6:00 pm </span></span></span></span></strong><strong><span style="background:#F3F3F3\;"><span style="color:#3F3F3F\;"><span style="font-family:ebrima\;"><span style="font-size:14.0pt\;">&loz\;</span></span></span></span></strong><strong><span style="background:#F3F3F3\;"><span style="color:#3F3F3F\;"><span style="font-family:arial\,sans-serif\;"><span style="font-size:14.0pt\;">&nbsp\;&nbsp\; A Tour of Italy Buffet Dinner </span></span></span></span></strong><br />\n<strong><span style="background:#F3F3F3\;"><span style="color:#3F3F3F\;"><span style="font-family:arial\,sans-serif\;">Italian Salad\, Breadsticks\, Italian Sausage Pasta Bake\, Desert</span></span></span></strong><br />\n<strong><span style="background:#F3F3F3\;"><span style="color:#3F3F3F\;"><span style="font-family:arial\,sans-serif\;"><em><span style="font-family:arial\,sans-serif\;">(Vegetarian and gluten-free options available)</span></em></span></span></span></strong><br />\n<strong><span style="background:#F3F3F3\;"><span style="color:#3F3F3F\;"><span style="font-family:arial\,sans-serif\;"><span style="font-size:14.0pt\;">7:00 pm </span></span></span></span></strong><strong><span style="background:#F3F3F3\;"><span style="color:#3F3F3F\;"><span style="font-family:ebrima\;"><span style="font-size:14.0pt\;">&loz\;</span></span></span></span></strong><strong><span style="background:#F3F3F3\;"><span style="color:#3F3F3F\;"><span style="font-family:arial\,sans-serif\;"><span style="font-size:14.0pt\;"> Scholarship Award Ceremony </span></span></span></span></strong><br />\n<strong><span style="background:#F3F3F3\;"><span style="color:#3F3F3F\;"><span style="font-family:arial\,sans-serif\;">Silent Auction Winners Announced</span></span></span></strong><br />\n&nbsp\;<br />\n<strong><span style="background:#F3F3F3\;"><span style="color:#3F3F3F\;"><span style="font-family:arial\,sans-serif\;"><span style="font-size:14.0pt\;">INDIVIDUAL TICKETS &nbsp\;&nbsp\;</span></span></span></span></strong><strong><span style="background:#F3F3F3\;"><span style="color:red\;"><span style="font-family:arial\,sans-serif\;"><span style="font-size:14.0pt\;">$25</span></span></span></span></strong><br />\n<strong><span style="background:#F3F3F3\;"><span style="color:#3F3F3F\;"><span style="font-family:arial\,sans-serif\;"><span style="font-size:14.0pt\;">COMMEMORATIVE LOGO GLASS&nbsp\;&nbsp\; </span></span></span></span></strong><strong><span style="background:#F3F3F3\;"><span style="color:red\;"><span style="font-family:arial\,sans-serif\;"><span style="font-size:14.0pt\;">$10</span></span></span></span></strong><strong><span style="background:#F3F3F3\;"><span style="color:#3F3F3F\;"><span style="font-family:arial\,sans-serif\;"><span style="font-size:14.0pt\;"> (Includes first drink free!)</span></span></span></span></strong><br />\n&nbsp\;<br />\n<strong><span style="background:#F3F3F3\;"><span style="color:#3F3F3F\;"><span style="font-family:arial\,sans-serif\;"><span style="font-size:12.0pt\;">Sponsor this event at one of the three levels below for special recognition and event </span></span></span></span></strong><br />\n<strong><span style="background:#F3F3F3\;"><span style="color:#C00000\;"><span style="font-family:arial\,sans-serif\;"><span style="font-size:14.0pt\;">COMMUNITY TRAILBLAZER&nbsp\;&nbsp\;&nbsp\;&nbsp\;&nbsp\;&nbsp\; $500</span></span></span></span></strong><br />\n<span style="background:#F3F3F3\;"><span style="color:#3F3F3F\;"><span style="font-family:arial black\,sans-serif\;">&diams\;</span></span></span><span style="background:#F3F3F3\;"><span style="color:#3F3F3F\;"><span style="font-family:arial\,sans-serif\;"><span style="font-size:12.0pt\;"> Opportunity to personally present a scholarship on stage</span></span></span></span><br />\n<span style="background:#F3F3F3\;"><span style="color:#3F3F3F\;"><span style="font-family:arial black\,sans-serif\;"><span style="font-size:12.0pt\;">&diams\;</span></span></span></span><span style="background:#F3F3F3\;"><span style="color:#3F3F3F\;"><span style="font-family:arial\,sans-serif\;"><span style="font-size:12.0pt\;"> Recognition by sponsor level with logo in all print\, digital and social media</span></span></span></span><br />\n<span style="background:#F3F3F3\;"><span style="color:#3F3F3F\;"><span style="font-family:arial black\,sans-serif\;"><span style="font-size:12.0pt\;">&diams\;</span></span></span></span><span style="background:#F3F3F3\;"><span style="color:#3F3F3F\;"><span style="font-family:arial\,sans-serif\;"><span style="font-size:12.0pt\;"> Logo in printed program and full screen rotating logo on large monitors at &nbsp\;&nbsp\;&nbsp\;&nbsp\;event</span></span></span></span><br />\n<span style="background:#F3F3F3\;"><span style="color:#3F3F3F\;"><span style="font-family:arial black\,sans-serif\;"><span style="font-size:12.0pt\;">&diams\;</span></span></span></span><span style="background:#F3F3F3\;"><span style="color:#3F3F3F\;"><span style="font-family:arial\,sans-serif\;"><span style="font-size:12.0pt\;"> 8 guest tickets</span></span></span></span><br />\n<span style="background:#F3F3F3\;"><span style="color:#3F3F3F\;"><span style="font-family:arial black\,sans-serif\;"><span style="font-size:12.0pt\;">&diams\;</span></span></span></span><span style="background:#F3F3F3\;"><span style="color:#3F3F3F\;"><span style="font-family:arial\,sans-serif\;"><span style="font-size:12.0pt\;"> 8 Complimentary RGCA logoed glasses for each seat at the table</span></span></span></span><br />\n<br />\n<strong><span style="background:#F3F3F3\;"><span style="color:#C00000\;"><span style="font-family:arial\,sans-serif\;"><span style="font-size:14.0pt\;">COMMUNITY INFLUENCER&nbsp\;&nbsp\;&nbsp\;&nbsp\;&nbsp\;&nbsp\;&nbsp\;&nbsp\; $250</span></span></span></span></strong><br />\n<span style="background:#F3F3F3\;"><span style="font-family:arial black\,sans-serif\;">&diams\;</span></span><span style="background:#F3F3F3\;"><span style="font-family:arial\,sans-serif\;"><span style="font-size:12.0pt\;">&nbsp\;Recognition by sponsor level with small logo in all print\, digital and social media</span></span></span><br />\n<span style="background:#F3F3F3\;"><span style="font-family:arial black\,sans-serif\;"><span style="font-size:12.0pt\;">&diams\;</span></span></span><span style="background:#F3F3F3\;"><span style="font-family:arial\,sans-serif\;"><span style="font-size:12.0pt\;"> Small Logo in printed/digital + rotating listing on jumbo-screen event center monitors</span></span></span><br />\n<span style="background:#F3F3F3\;"><span style="font-family:arial black\,sans-serif\;"><span style="font-size:12.0pt\;">&diams\;</span></span></span><span style="background:#F3F3F3\;"><span style="font-family:arial\,sans-serif\;"><span style="font-size:12.0pt\;"> 4 guest tickets with preferred seating location (purchase up to 4 additional tickets at $25 each)</span></span></span><br />\n<br />\n<strong><span style="background:#F3F3F3\;"><span style="color:#C00000\;"><span style="font-family:arial\,sans-serif\;"><span style="font-size:14.0pt\;">COMMUNITY ADVOCATE&nbsp\; &nbsp\; $175&nbsp\;</span></span></span></span></strong><br />\n<span style="background:#F3F3F3\;"><span style="color:#3F3F3F\;"><span style="font-family:arial black\,sans-serif\;">&diams\;</span></span></span><span style="background:#F3F3F3\;"><span style="color:#3F3F3F\;"><span style="font-family:arial\,sans-serif\;"> Recognition by sponsor level in all print\, digital and social media</span></span></span><br />\n<span style="background:#F3F3F3\;"><span style="color:#3F3F3F\;"><span style="font-family:arial black\,sans-serif\;">&diams\;</span></span></span><span style="background:#F3F3F3\;"><span style="color:#3F3F3F\;"><span style="font-family:arial\,sans-serif\;"> Name listing in printed/digital + rotating listing on jumbo-screen event center monitors</span></span></span><br />\n<span style="background:#F3F3F3\;"><span style="color:#3F3F3F\;"><span style="font-family:arial black\,sans-serif\;">&diams\;</span></span></span><span style="background:#F3F3F3\;"><span style="color:#3F3F3F\;"><span style="font-family:arial\,sans-serif\;"> 2 guest tickets (purchase up to 6 additional tickets at $25 each)</span></span></span><br />\n<br />\n<strong><span style="font-size:10px\;"><em><span style="color: rgb(255\, 0\, 0)\;">*If you are paying with a credit card the processing fees will be added to the payment. If you are paying with a check or cash you invoice will reflect the price list.&nbsp\;</span></em></span></strong>
LOCATION:Pathfinder Park & Event Center 6655 CO-115\, Florence\, CO 81226
UID:e.2822.17364
SEQUENCE:3
DTSTAMP:20260422T061449Z
URL:https://business.royalgorgechamberalliance.org/events/details/pasta-party-scholarship-fundraiser-2023-17364
END:VEVENT

END:VCALENDAR
