BEGIN:VCALENDAR
VERSION:2.0
PRODID:-//ChamberMaster//Event Calendar 2.0//EN
METHOD:PUBLISH
X-PUBLISHED-TTL:P3D
REFRESH-INTERVAL:P3D
CALSCALE:GREGORIAN
BEGIN:VEVENT
DTSTART:20230704T160000Z
DTEND:20230704T210000Z
X-MICROSOFT-CDO-ALLDAYEVENT:FALSE
SUMMARY:Rotary Rubber Ducky Race
DESCRIPTION:The annual Ducky Race\, on July 4 is a cooperative effort between the Rotary Club of Ca on City and the Florence Rotary Club. Tickets are available for purchase for $5 with cash prizes for the first 5 duckies. For the latest information about the Rotary Rubber Ducky Race\, go to the Rotary Club of Ca on City's Facebook page.
X-ALT-DESC;FMTTYPE=text/html:The annual Ducky Race\, on July 4 is a cooperative effort between the Rotary Club of Ca&ntilde\;on City and the Florence Rotary Club. Tickets are available for purchase for $5 with cash prizes for the first 5 duckies. For the latest information about the Rotary Rubber Ducky Race\, go to the Rotary Club of Ca&ntilde\;on City&rsquo\;s Facebook page.
LOCATION:Irrigation Ditch near Pioneer Park\, Florence Colorado
UID:e.2822.17340
SEQUENCE:3
DTSTAMP:20260422T111227Z
URL:https://business.royalgorgechamberalliance.org/events/details/rotary-rubber-ducky-race-17340
END:VEVENT

END:VCALENDAR
