BEGIN:VCALENDAR
VERSION:2.0
PRODID:-//ChamberMaster//Event Calendar 2.0//EN
METHOD:PUBLISH
X-PUBLISHED-TTL:P3D
REFRESH-INTERVAL:P3D
CALSCALE:GREGORIAN
BEGIN:VEVENT
DTSTART:20230612T183000Z
DTEND:20230612T220000Z
X-MICROSOFT-CDO-ALLDAYEVENT:FALSE
SUMMARY:Window Glow Interiors
DESCRIPTION:Window Glow Interiors A narrated bus tour of 6 historic churches with outstanding examples of the area's Gilded Age: Stained glass windows. History\, art\, architecture\, stories\, community pride\, and the mystery of the the missing window. $15 /person. Call 719-784-2038 to register. Some steps: minimal walking. Benefits The Golden Age Center and The Bell Tower Cultural Center.
X-ALT-DESC;FMTTYPE=text/html:Window Glow Interiors A narrated bus tour of 6 historic churches with outstanding examples of the area&#39\;s Gilded Age: Stained glass windows. History\, art\, architecture\, stories\, community pride\, and the mystery of the the missing window. $15 /person. Call 719-784-2038 to register. Some steps: minimal walking. Benefits The Golden Age Center and The Bell Tower Cultural Center.
LOCATION:Begin and End at the Bell Tower\, 201 E second St Florence. Bus travels to six historic churches in Florence and Canon City
UID:e.2822.17355
SEQUENCE:3
DTSTAMP:20260422T130040Z
URL:https://business.royalgorgechamberalliance.org/events/details/window-glow-interiors-17355
END:VEVENT

END:VCALENDAR
