BEGIN:VCALENDAR
VERSION:2.0
PRODID:-//ChamberMaster//Event Calendar 2.0//EN
METHOD:PUBLISH
X-PUBLISHED-TTL:P3D
REFRESH-INTERVAL:P3D
CALSCALE:GREGORIAN
BEGIN:VEVENT
DTSTART:20230612T183000Z
DTEND:20230612T220000Z
X-MICROSOFT-CDO-ALLDAYEVENT:FALSE
SUMMARY:Window Glow Interiors Bus Tour
DESCRIPTION:Begin and End at the (former) First Baptist Church of Florence\, 201 E Second St. Tour 6 representatives of Ca on City and Florence's Gilded Age. Light\, color\, art\, architecture\, and the mystery of the missing window. Proceeds benefit The Golden Age Center and The Bell Tower Cultural Center. $15/ person 719-783-2038 to register. space limited
X-ALT-DESC;FMTTYPE=text/html:Begin and End at the (former) First Baptist Church of Florence\, 201 E Second St. Tour 6 representatives of Ca&ntilde\;on City and Florence&#39\;s Gilded Age. Light\, color\, art\, architecture\, and the mystery of the missing window. Proceeds benefit The Golden Age Center and The Bell Tower Cultural Center. $15/ person 719-783-2038 to register. space limited
LOCATION:The Bell Tower 201 E Second St Florence\, CO
UID:e.2822.17352
SEQUENCE:3
DTSTAMP:20260422T130154Z
URL:https://business.royalgorgechamberalliance.org/events/details/window-glow-interiors-bus-tour-17352
END:VEVENT

END:VCALENDAR
